BEGIN:VCALENDAR
VERSION:2.0
METHOD:PUBLISH
PRODID:SimpleCalendar
BEGIN:VEVENT
UID:@simplecalendar-SFCA
CATEGORIES:Fahrten und Termine
CLASS:PUBLIC
DTSTAMP:20260422T235336Z
CREATED:20260422T235336Z
SUMMARY:Förderwochenende SVP (K)
DESCRIPTION:Förderwochenende SVP (K) Engelberg Titlis, Schweiz /  Skiverband Pfalz
LOCATION:Engelberg Titlis, Schweiz
LAST-MODIFIED:20211107T171102Z
URL:https://sfca.de/index.php/startseite/fahrten/23-fahrten/106-foerderwochenende-svp-2022
TRANSP:OPAQUE
DTSTART:20220114T010000Z
DTEND:20220116T010000Z
END:VEVENT
END:VCALENDAR