BEGIN:VCALENDAR
VERSION:2.0
METHOD:PUBLISH
PRODID:SimpleCalendar
BEGIN:VEVENT
UID:@simplecalendar-SFCA
CATEGORIES:Fahrten und Termine
CLASS:PUBLIC
DTSTAMP:20260422T233939Z
CREATED:20260422T233939Z
SUMMARY:Valmorel Silvester 2027, 7 Tage (Save the date)
DESCRIPTION:Valmorel Silvester 2027, 7 Tage (Save the date) Valmorel /  Gunnar Krug
LOCATION:Valmorel
LAST-MODIFIED:20260405T164340Z
GEO:45.47651;6.45706
URL:https://sfca.de/index.php/startseite/fahrten/23-fahrten/159-valmorel-silvester-2027-7-tage
TRANSP:OPAQUE
DTSTART:20261226T010000Z
DTEND:20270102T010000Z
END:VEVENT
END:VCALENDAR