BEGIN:VCALENDAR
VERSION:2.0
METHOD:PUBLISH
PRODID:SimpleCalendar
BEGIN:VEVENT
UID:@simplecalendar-SFCA
CATEGORIES:Fahrten und Termine
CLASS:PUBLIC
DTSTAMP:20260422T234007Z
CREATED:20260422T234007Z
SUMMARY:Valmorel Silvester 2027, Ferien (Save the date)
DESCRIPTION:Valmorel Silvester 2027, Ferien (Save the date) Valmorel /  Gunnar Krug
LOCATION:Valmorel
LAST-MODIFIED:20260405T164612Z
GEO:45.47651;6.45706
URL:https://sfca.de/index.php/startseite/fahrten/23-fahrten/160-valmorel-silvester-2027-ferien
TRANSP:OPAQUE
DTSTART:20270102T010000Z
DTEND:20270109T010000Z
END:VEVENT
END:VCALENDAR