BEGIN:VCALENDAR
VERSION:2.0
METHOD:PUBLISH
PRODID:SimpleCalendar
BEGIN:VEVENT
UID:@simplecalendar-SFCA
CATEGORIES:Fahrten und Termine
CLASS:PUBLIC
DTSTAMP:20260422T182538Z
CREATED:20260422T182538Z
SUMMARY:Valmorel März 2027 (Save the date)
DESCRIPTION:Valmorel März 2027 (Save the date) Valmorel /  Gunnar Krug
LOCATION:Valmorel
LAST-MODIFIED:20260405T163755Z
GEO:45.47651;6.45706
URL:https://sfca.de/index.php/startseite/fahrten/termine/23-fahrten/157-valmorel-maerz-2027
TRANSP:OPAQUE
DTSTART:20270313T010000Z
DTEND:20270320T010000Z
END:VEVENT
END:VCALENDAR