BEGIN:VCALENDAR
VERSION:2.0
METHOD:PUBLISH
PRODID:SimpleCalendar
X-WR-TIMEZONE:Europe/London
BEGIN:VEVENT
UID:156@simplecalendar-SFCA
CATEGORIES:
CLASS:PUBLIC
DTSTAMP:20260422T165923Z
CREATED:20260422T165923Z
SUMMARY:Shoot-Out
DESCRIPTION:Orga-Team Shoot Out {article Shoot-Out 26}{text}{/article}{article Datensch utzpassus Fahrten}{text}{/article}
LOCATION:Stubaital
LAST-MODIFIED:20260106T214154Z
GEO:47.07226;11.26043
TRANSP:OPAQUE
DTSTART;VALUE=DATE:20260423
DTEND;VALUE=DATE:20260427
END:VEVENT
BEGIN:VEVENT
UID:158@simplecalendar-SFCA
CATEGORIES:
CLASS:PUBLIC
DTSTAMP:20260422T165923Z
CREATED:20260422T165923Z
SUMMARY:Valmorel Silvester 2027, 14 Tage (Save the date)
DESCRIPTION:Gunnar Krug Save the date - für Frühbucher Details folgen
LOCATION:Valmorel
LAST-MODIFIED:20260405T165028Z
GEO:45.47651;6.45706
TRANSP:OPAQUE
DTSTART;VALUE=DATE:20261226
DTEND;VALUE=DATE:20270110
END:VEVENT
BEGIN:VEVENT
UID:159@simplecalendar-SFCA
CATEGORIES:
CLASS:PUBLIC
DTSTAMP:20260422T165923Z
CREATED:20260422T165923Z
SUMMARY:Valmorel Silvester 2027, 7 Tage (Save the date)
DESCRIPTION:Gunnar Krug Save the date - für Frühbucher Details folgen
LOCATION:Valmorel
LAST-MODIFIED:20260405T165032Z
GEO:45.47651;6.45706
TRANSP:OPAQUE
DTSTART;VALUE=DATE:20261226
DTEND;VALUE=DATE:20270103
END:VEVENT
BEGIN:VEVENT
UID:160@simplecalendar-SFCA
CATEGORIES:
CLASS:PUBLIC
DTSTAMP:20260422T165923Z
CREATED:20260422T165923Z
SUMMARY:Valmorel Silvester 2027, Ferien (Save the date)
DESCRIPTION:Gunnar Krug Save the date - für Frühbucher Details folgen
LOCATION:Valmorel
LAST-MODIFIED:20260405T164951Z
GEO:45.47651;6.45706
TRANSP:OPAQUE
DTSTART;VALUE=DATE:20270102
DTEND;VALUE=DATE:20270110
END:VEVENT
BEGIN:VEVENT
UID:157@simplecalendar-SFCA
CATEGORIES:
CLASS:PUBLIC
DTSTAMP:20260422T165923Z
CREATED:20260422T165923Z
SUMMARY:Valmorel März 2027 (Save the date)
DESCRIPTION:Gunnar Krug Save the date - für Frühbucher Details folgen
LOCATION:Valmorel
LAST-MODIFIED:20260405T165036Z
GEO:45.47651;6.45706
TRANSP:OPAQUE
DTSTART;VALUE=DATE:20270313
DTEND;VALUE=DATE:20270321
END:VEVENT
END:VCALENDAR